BEGIN:VCALENDAR
VERSION:2.0
PRODID:icalendar-ruby
CALSCALE:GREGORIAN
METHOD:PUBLISH
BEGIN:VEVENT
DTSTAMP:20260420T201323Z
UID:117-67845@stjohnsparishchurch.com
DTSTART:20260501T150000Z
DTEND:20260501T173000Z
CLASS:PUBLIC
CREATED:20260420T105546
DESCRIPTION:It’s time again to honor our Super Seniors (80’s +) with lu
 nch and enjoy some Bingo with our bingo Master\, Rob Schluter in Resurrect
 ion Hall on  Friday\, May 1st from 11:00 am.-1:30 p.m. If possible\, plea
 se RSVP by April 25th to Sherry Fox\, 843-729-1202. You can call or text. 
 Remember\, to let Sherry know if you need a ride. 
LAST-MODIFIED:20260420T105546
LOCATION:
SUMMARY:Super Seniors Bingo
URL;VALUE=URI:https://www.stjohnsparishchurch.com/events/super-seniors-bing
 o/2026-05-01
END:VEVENT
END:VCALENDAR
